BEGIN:VCALENDAR
VERSION:2.0
PRODID:-//Reit- und Fahrverein Nordhorn - ECPv6.15.20//NONSGML v1.0//EN
CALSCALE:GREGORIAN
METHOD:PUBLISH
X-WR-CALNAME:Reit- und Fahrverein Nordhorn
X-ORIGINAL-URL:https://www.rfv-nordhorn.de
X-WR-CALDESC:Veranstaltungen für Reit- und Fahrverein Nordhorn
REFRESH-INTERVAL;VALUE=DURATION:PT1H
X-Robots-Tag:noindex
X-PUBLISHED-TTL:PT1H
BEGIN:VTIMEZONE
TZID:Europe/Amsterdam
BEGIN:DAYLIGHT
TZOFFSETFROM:+0100
TZOFFSETTO:+0200
TZNAME:CEST
DTSTART:20180325T010000
END:DAYLIGHT
BEGIN:STANDARD
TZOFFSETFROM:+0200
TZOFFSETTO:+0100
TZNAME:CET
DTSTART:20181028T010000
END:STANDARD
BEGIN:DAYLIGHT
TZOFFSETFROM:+0100
TZOFFSETTO:+0200
TZNAME:CEST
DTSTART:20190331T010000
END:DAYLIGHT
BEGIN:STANDARD
TZOFFSETFROM:+0200
TZOFFSETTO:+0100
TZNAME:CET
DTSTART:20191027T010000
END:STANDARD
BEGIN:DAYLIGHT
TZOFFSETFROM:+0100
TZOFFSETTO:+0200
TZNAME:CEST
DTSTART:20200329T010000
END:DAYLIGHT
BEGIN:STANDARD
TZOFFSETFROM:+0200
TZOFFSETTO:+0100
TZNAME:CET
DTSTART:20201025T010000
END:STANDARD
BEGIN:DAYLIGHT
TZOFFSETFROM:+0100
TZOFFSETTO:+0200
TZNAME:CEST
DTSTART:20210328T010000
END:DAYLIGHT
BEGIN:STANDARD
TZOFFSETFROM:+0200
TZOFFSETTO:+0100
TZNAME:CET
DTSTART:20211031T010000
END:STANDARD
BEGIN:DAYLIGHT
TZOFFSETFROM:+0100
TZOFFSETTO:+0200
TZNAME:CEST
DTSTART:20220327T010000
END:DAYLIGHT
BEGIN:STANDARD
TZOFFSETFROM:+0200
TZOFFSETTO:+0100
TZNAME:CET
DTSTART:20221030T010000
END:STANDARD
BEGIN:DAYLIGHT
TZOFFSETFROM:+0100
TZOFFSETTO:+0200
TZNAME:CEST
DTSTART:20230326T010000
END:DAYLIGHT
BEGIN:STANDARD
TZOFFSETFROM:+0200
TZOFFSETTO:+0100
TZNAME:CET
DTSTART:20231029T010000
END:STANDARD
BEGIN:DAYLIGHT
TZOFFSETFROM:+0100
TZOFFSETTO:+0200
TZNAME:CEST
DTSTART:20240331T010000
END:DAYLIGHT
BEGIN:STANDARD
TZOFFSETFROM:+0200
TZOFFSETTO:+0100
TZNAME:CET
DTSTART:20241027T010000
END:STANDARD
BEGIN:DAYLIGHT
TZOFFSETFROM:+0100
TZOFFSETTO:+0200
TZNAME:CEST
DTSTART:20250330T010000
END:DAYLIGHT
BEGIN:STANDARD
TZOFFSETFROM:+0200
TZOFFSETTO:+0100
TZNAME:CET
DTSTART:20251026T010000
END:STANDARD
BEGIN:DAYLIGHT
TZOFFSETFROM:+0100
TZOFFSETTO:+0200
TZNAME:CEST
DTSTART:20260329T010000
END:DAYLIGHT
BEGIN:STANDARD
TZOFFSETFROM:+0200
TZOFFSETTO:+0100
TZNAME:CET
DTSTART:20261025T010000
END:STANDARD
BEGIN:DAYLIGHT
TZOFFSETFROM:+0100
TZOFFSETTO:+0200
TZNAME:CEST
DTSTART:20270328T010000
END:DAYLIGHT
BEGIN:STANDARD
TZOFFSETFROM:+0200
TZOFFSETTO:+0100
TZNAME:CET
DTSTART:20271031T010000
END:STANDARD
END:VTIMEZONE
BEGIN:VEVENT
DTSTART;VALUE=DATE:20260321
DTEND;VALUE=DATE:20260322
DTSTAMP:20260421T141206
CREATED:20260114T170531Z
LAST-MODIFIED:20260131T212344Z
UID:11778-1774051200-1774137599@www.rfv-nordhorn.de
SUMMARY:Reitabzeichen ablegen
DESCRIPTION:
URL:https://www.rfv-nordhorn.de/event/reitabzeichen-ablegen/
LOCATION:Reit- und Fahrverein Nordhorn e. V.\, Neuenhauser Str. 257\, Nordhorn\, Niedersachsen\, 48527\, Deutschland
ATTACH;FMTTYPE=image/jpeg:https://www.rfv-nordhorn.de/wp-content/uploads/2026/01/Reitabzeichen-2026-01.jpg
END:VEVENT
BEGIN:VEVENT
DTSTART;TZID=Europe/Amsterdam:20251210T173000
DTEND;TZID=Europe/Amsterdam:20251210T200000
DTSTAMP:20260421T141206
CREATED:20251101T123906Z
LAST-MODIFIED:20251101T123953Z
UID:11710-1765387800-1765396800@www.rfv-nordhorn.de
SUMMARY:Glühweinabend
DESCRIPTION:
URL:https://www.rfv-nordhorn.de/event/gluehweinabend-4/
LOCATION:Reit- und Fahrverein Nordhorn e. V.\, Neuenhauser Str. 257\, Nordhorn\, Niedersachsen\, 48527\, Deutschland
ATTACH;FMTTYPE=image/jpeg:https://www.rfv-nordhorn.de/wp-content/uploads/2025/11/Gluehweinabend-2025.jpg
END:VEVENT
BEGIN:VEVENT
DTSTART;TZID=Europe/Amsterdam:20251207T140000
DTEND;TZID=Europe/Amsterdam:20251207T180000
DTSTAMP:20260421T141206
CREATED:20251101T122519Z
LAST-MODIFIED:20251101T123749Z
UID:11696-1765116000-1765130400@www.rfv-nordhorn.de
SUMMARY:Weihnachtsreiten 2025
DESCRIPTION:Weihnachtsreiten 2025 beim Reit- und Fahrverein Nordhorn 🎄\nDer Reit- und Fahrverein Nordhorn lädt herzlich zum traditionellen Weihnachtsreiten am 7. Dezember 2025 ein!Ab 15:00 Uhr erwartet euch ein festliches Programm voller Reitkunst\, Spaß und Weihnachtsstimmung. \nFreut euch auf abwechslungsreiche Dressur- und Springvorführungen unserer Schul- und Privatpferde\, die feierliche Weihnachtsgeschichte\, sowie auf den beliebten Geschicklichkeitsparcours „Deckentragen“ – bei dem Teamgeist und Schnelligkeit gefragt sind.Auch musikalisch wird es festlich: Maite Lammering sorgt mit ihrem Livegesang für die passende Weihnachtsatmosphäre. \nNatürlich darf auch der Besuch vom Nikolaus nicht fehlen – besonders für die kleinen Gäste ein echtes Highlight!Für das leibliche Wohl ist wie immer reichlich gesorgt: warme Getränke\, süße Leckereien und herzhafte Snacks laden zum Genießen und Verweilen ein. \nKommt vorbei\, bringt eure Familie und Freunde mit und erlebt mit uns einen stimmungsvollen Adventsnachmittag rund ums Pferd. Wir freuen uns auf euch! ✨ \n  
URL:https://www.rfv-nordhorn.de/event/weihnachtsreiten-5/
LOCATION:Reit- und Fahrverein Nordhorn e. V.\, Neuenhauser Str. 257\, Nordhorn\, Niedersachsen\, 48527\, Deutschland
ATTACH;FMTTYPE=image/jpeg:https://www.rfv-nordhorn.de/wp-content/uploads/2025/11/Weihnachtsreiten-2025-2.jpg
END:VEVENT
BEGIN:VEVENT
DTSTART;TZID=Europe/Amsterdam:20251126T180000
DTEND;TZID=Europe/Amsterdam:20251026T161827
DTSTAMP:20260421T141206
CREATED:20251025T171604Z
LAST-MODIFIED:20251026T181827Z
UID:11690-1764180000-1761495507@www.rfv-nordhorn.de
SUMMARY:Folgetermin zur Jahreshauptversammlung 2025
DESCRIPTION:
URL:https://www.rfv-nordhorn.de/event/folgetermin-zur-jahreshauptversammlung-2025/
LOCATION:Reit- und Fahrverein Nordhorn e. V.\, Neuenhauser Str. 257\, Nordhorn\, Niedersachsen\, 48527\, Deutschland
ATTACH;FMTTYPE=image/png:https://www.rfv-nordhorn.de/wp-content/uploads/2025/05/Einladung-JHV-2025-bild-Pferd.png
END:VEVENT
BEGIN:VEVENT
DTSTART;VALUE=DATE:20250912
DTEND;VALUE=DATE:20250914
DTSTAMP:20260421T141206
CREATED:20250830T175004Z
LAST-MODIFIED:20250830T175022Z
UID:11411-1757718000-1757804399@www.rfv-nordhorn.de
SUMMARY:Vereinsmeisterschaften 2025
DESCRIPTION:
URL:https://www.rfv-nordhorn.de/event/vereinsmeisterschaften-2025/
LOCATION:Reit- und Fahrverein Nordhorn e. V.\, Neuenhauser Str. 257\, Nordhorn\, Niedersachsen\, 48527\, Deutschland
ATTACH;FMTTYPE=image/jpeg:https://www.rfv-nordhorn.de/wp-content/uploads/2024/08/turnier-pixabay-6.jpg
END:VEVENT
BEGIN:VEVENT
DTSTART;VALUE=DATE:20250905
DTEND;VALUE=DATE:20250908
DTSTAMP:20260421T141206
CREATED:20250525T103835Z
LAST-MODIFIED:20250704T222842Z
UID:11236-1757113200-1757285999@www.rfv-nordhorn.de
SUMMARY:Euregio-Turnier Nordhorn 2025
DESCRIPTION:
URL:https://www.rfv-nordhorn.de/event/sommerturnier-2025/
LOCATION:Reit- und Fahrverein Nordhorn e. V.\, Neuenhauser Str. 257\, Nordhorn\, Niedersachsen\, 48527\, Deutschland
ATTACH;FMTTYPE=image/jpeg:https://www.rfv-nordhorn.de/wp-content/uploads/2025/05/pixabay-turnier-2.jpg
END:VEVENT
BEGIN:VEVENT
DTSTART;TZID=Europe/Amsterdam:20250625T180000
DTEND;TZID=Europe/Amsterdam:20250625T180000
DTSTAMP:20260421T141206
CREATED:20250525T085403Z
LAST-MODIFIED:20250525T104156Z
UID:11195-1750874400-1750874400@www.rfv-nordhorn.de
SUMMARY:Jahreshauptversammlung 2025
DESCRIPTION:Einladung zur Jahreshauptversammlung 2025 \nDer Reit- und Fahrverein Nordhorn e.V. lädt hiermit alle Mitglieder zur Jahreshauptversammlung ein. \nTermin:          Mittwoch\, 25.06.2025 um 19:00 Uhr\nOrt:                Reit- und Fahrverein Nordhorn e.V. – Vorraum neue Reithalle \nTagesordnung: \n\nBegrüßung und Beschlussfähigkeit\nProtokoll der JHV 2024*\nJahresbericht für den Zeitraum der letzt- und diesjährigen JHV\nBericht des Sportwartes\nBericht der Jugendwartin\nKassenbericht**\nBericht der Kassenprüfer**\nEntlastung des Vorstandes**\nWahl der Kassenprüfer\nEhrungen\nTermine\nAnträge ***\nVerschiedenes\n\n *  Das Protokoll liegt als Anhang der E-Mail bei und wurde ebenfalls bereits am 15.12.2024 per E-Mail verschickt. Außerdem liegt es zur Einsicht im Clubraum aus.          \n** Die Punkte 6 bis 8 der Tagesordnung können möglicherweise nicht vorgetragen werden und diese müssten dann auf einem Folgetermin vorgestellt werden. Grund dafür ist ein längerfristiger gesundheitlicher Ausfall unseres Steuerberaters\, durch den bei Erstellung der Einladung noch nicht sichergestellt werden konnte\, ob der Jahresabschluss 2024 rechtzeitig bis zur Jahreshauptversammlung fertig wird. Da wir satzungsgemäß spätestens im zweiten Quartal des Jahres eine Jahreshauptversammlung durchführen müssen\, würden dann zumindest alle anderen Tagesordnungspunkte aus dieser Einladung vorgestellt. Wenn alles rechtzeitig fertig wird und die Kasse noch vorab geprüft werden kann\, finden alle Tagesordnungspunkte wie gewohnt statt. \n*** Anträge müssen schriftlich bis spätestens vier Tage vor der JHV bei der 1.Vorsitzenden eingereicht werden. \nNina Vrielink\n1.Vorsitzende
URL:https://www.rfv-nordhorn.de/event/jahreshauptversammlung-2025/
LOCATION:Niedersachsen
ATTACH;FMTTYPE=image/png:https://www.rfv-nordhorn.de/wp-content/uploads/2025/05/Einladung-JHV-2025-bild-Pferd.png
END:VEVENT
BEGIN:VEVENT
DTSTART;TZID=Europe/Amsterdam:20250621T143000
DTEND;TZID=Europe/Amsterdam:20250622T100000
DTSTAMP:20260421T141206
CREATED:20250607T202615Z
LAST-MODIFIED:20250607T202654Z
UID:11316-1750516200-1750586400@www.rfv-nordhorn.de
SUMMARY:Zelten 2025
DESCRIPTION:Ein Zeltwochenende für unsere jungen Vereinsmitglieder mit Hotdogs\, Spielen (z. B. „Zeitungsschlagen“) und Nachtwanderung.Bitte Zelt\, Schlafsachen und eine kleine Spende für die Verpflegung mitbringen.Anmeldungen werden bei Hannah Moss entgegen genommen. 
URL:https://www.rfv-nordhorn.de/event/zelten-2025/
LOCATION:Reit- und Fahrverein Nordhorn e. V.\, Neuenhauser Str. 257\, Nordhorn\, Niedersachsen\, 48527\, Deutschland
ATTACH;FMTTYPE=image/jpeg:https://www.rfv-nordhorn.de/wp-content/uploads/2025/06/Zelten-2025-1.jpg
END:VEVENT
BEGIN:VEVENT
DTSTART;TZID=Europe/Amsterdam:20241208T140000
DTEND;TZID=Europe/Amsterdam:20241208T180000
DTSTAMP:20260421T141206
CREATED:20241031T150818Z
LAST-MODIFIED:20250202T132447Z
UID:11129-1733666400-1733680800@www.rfv-nordhorn.de
SUMMARY:Weihnachtsreiten 2024
DESCRIPTION:Weihnachtsreiten am 8. Dezember – Ein Fest für die ganze Familie! \nDer Reit- und Fahrverein Nordhorn e. V. lädt herzlich zum diesjährigen Weihnachtsreiten ein! Freut euch auf ein festliches Programm voller Highlights für Groß und Klein. \nAb 15 Uhr erwartet euch:  \nBeeindruckende Reitvorführungen: \nUnsere ReiterInnen und Pferde zeigen ihr Können in festlicher Atmosphäre.  \nSteckenpferd-Mächtigkeitsspringen: \nEin Spaß für die Kleinen! Wer meistert die höchsten Hindernisse auf dem Steckenpferd? (Anmeldung bei Danica Krebs\, Teilnahmebedingungen siehe Bild unten)  \nVerkaufsstand:\nHier findet ihr weihnachtliche Leckereien und kleine Geschenke.  \nBesuch vom Nikolaus:\nEin besonderer Gast kommt für die kleinen Besucher vorbei und hat eine Überraschung im Gepäck.  \nLivegesang:\nStimmungsvolle Musik begleitet den Nachmittag und sorgt für weihnachtliche Klänge.  \nFür das leibliche Wohl ist bestens gesorgt – warme Getränke und köstliche Speisen laden zum Genießen und Verweilen ein.  \nKommt vorbei und erlebt mit uns die Magie des Weihnachtsreitens. Wir freuen uns auf euren Besuch!  \n          
URL:https://www.rfv-nordhorn.de/event/weihnachtsreiten-2024/
LOCATION:Reit- und Fahrverein Nordhorn e. V.\, Neuenhauser Str. 257\, Nordhorn\, Niedersachsen\, 48527\, Deutschland
ATTACH;FMTTYPE=image/jpeg:https://www.rfv-nordhorn.de/wp-content/uploads/2024/10/Weihnachtsreiten-2024-1.jpg
END:VEVENT
BEGIN:VEVENT
DTSTART;VALUE=DATE:20240906
DTEND;VALUE=DATE:20240908
DTSTAMP:20260421T141206
CREATED:20240807T192720Z
LAST-MODIFIED:20240807T192805Z
UID:10977-1725663600-1725749999@www.rfv-nordhorn.de
SUMMARY:Vereinsmeisterschaften 2024
DESCRIPTION:
URL:https://www.rfv-nordhorn.de/event/vereinsmeisterschaften-2024/
LOCATION:Reit- und Fahrverein Nordhorn e. V.\, Neuenhauser Str. 257\, Nordhorn\, Niedersachsen\, 48527\, Deutschland
ATTACH;FMTTYPE=image/jpeg:https://www.rfv-nordhorn.de/wp-content/uploads/2024/08/turnier-pixabay-4.jpg
END:VEVENT
BEGIN:VEVENT
DTSTART;VALUE=DATE:20240830
DTEND;VALUE=DATE:20240902
DTSTAMP:20260421T141206
CREATED:20240627T060117Z
LAST-MODIFIED:20250202T132428Z
UID:10638-1725058800-1725231599@www.rfv-nordhorn.de
SUMMARY:Sommerturnier 2024
DESCRIPTION:
URL:https://www.rfv-nordhorn.de/event/sommerturnier-2024/
LOCATION:Reit- und Fahrverein Nordhorn e. V.\, Neuenhauser Str. 257\, Nordhorn\, Niedersachsen\, 48527\, Deutschland
ATTACH;FMTTYPE=image/jpeg:https://www.rfv-nordhorn.de/wp-content/uploads/2024/06/turnier-pixabay-1.jpg
END:VEVENT
BEGIN:VEVENT
DTSTART;TZID=Europe/Amsterdam:20240224T133000
DTEND;TZID=Europe/Amsterdam:20240224T133000
DTSTAMP:20260421T141206
CREATED:20240211T201738Z
LAST-MODIFIED:20240211T201832Z
UID:10441-1708781400-1708781400@www.rfv-nordhorn.de
SUMMARY:Karneval mit euch zusammen mit den Pferden
DESCRIPTION:Es wird BUNT! \nZusammen mit den Pferden feiern wir mit euch am 24.02.2024 ab 14:30 Uhr Karneval.  \nJedes Alter ist Willkommen!  \nMeldet euch ganz einfach und schnell bei Hannah oder Danica an und seid dabei. :)
URL:https://www.rfv-nordhorn.de/event/karneval-mit-euch-zusammen-mit-den-pferden/
LOCATION:Niedersachsen
ATTACH;FMTTYPE=image/jpeg:https://www.rfv-nordhorn.de/wp-content/uploads/2024/02/2024-Karneval-Kids.jpg
END:VEVENT
BEGIN:VEVENT
DTSTART;TZID=Europe/Amsterdam:20231210T140000
DTEND;TZID=Europe/Amsterdam:20231210T180000
DTSTAMP:20260421T141206
CREATED:20231006T155024Z
LAST-MODIFIED:20231105T112817Z
UID:10381-1702216800-1702231200@www.rfv-nordhorn.de
SUMMARY:Weihnachtsreiten 2023
DESCRIPTION:Am 10. Dezember diesen Jahres findet unser jährliches Weihnachtsreiten in toller weihnachtlicher Atmosphäre statt!  \nWir haben wieder ein spannendes Programm für alle Besucher und freuen uns auf tolle Gespräche bei frischen Waffeln & Kuchen\, Kaffee\, Glühwein & Kinderpunsch.  \n…Und der Nikolaus hat auch schon unsere Einladung angenommen..! :-)  \nWir danken schon jetzt allen Mitwirkenden für die Organisation & Mitarbeit um den Adventsnachmittag und -abend zusammen genießen zu dürfen.  \n 
URL:https://www.rfv-nordhorn.de/event/weihnachtsreiten-2023/
LOCATION:Reit- und Fahrverein Nordhorn e. V.\, Neuenhauser Str. 257\, Nordhorn\, Niedersachsen\, 48527\, Deutschland
ATTACH;FMTTYPE=image/jpeg:https://www.rfv-nordhorn.de/wp-content/uploads/2023/11/Weihnachtsreiten-2023-1.jpg
END:VEVENT
BEGIN:VEVENT
DTSTART;VALUE=DATE:20230915
DTEND;VALUE=DATE:20230917
DTSTAMP:20260421T141206
CREATED:20230829T202549Z
LAST-MODIFIED:20230829T202604Z
UID:10319-1694818800-1694905199@www.rfv-nordhorn.de
SUMMARY:Vereinsmeisterschaften 2023
DESCRIPTION:
URL:https://www.rfv-nordhorn.de/event/vereinsmeisterschaften-2/
LOCATION:Reit- und Fahrverein Nordhorn e. V.\, Neuenhauser Str. 257\, Nordhorn\, Niedersachsen\, 48527\, Deutschland
ATTACH;FMTTYPE=image/jpeg:https://www.rfv-nordhorn.de/wp-content/uploads/2023/07/rider-g5738fb9f5_640.jpg
END:VEVENT
BEGIN:VEVENT
DTSTART;TZID=Europe/Amsterdam:20230902T090000
DTEND;TZID=Europe/Amsterdam:20230902T090000
DTSTAMP:20260421T141206
CREATED:20230803T165930Z
LAST-MODIFIED:20230803T165930Z
UID:10289-1693645200-1693645200@www.rfv-nordhorn.de
SUMMARY:Reiterflohmarkt für Groß & Klein
DESCRIPTION:
URL:https://www.rfv-nordhorn.de/event/reiterflohmarkt-fuer-gross-klein/
LOCATION:Reit- und Fahrverein Nordhorn e. V.\, Neuenhauser Str. 257\, Nordhorn\, Niedersachsen\, 48527\, Deutschland
ATTACH;FMTTYPE=image/jpeg:https://www.rfv-nordhorn.de/wp-content/uploads/2023/08/Reiterflohmarkt-09-2023.jpg
END:VEVENT
BEGIN:VEVENT
DTSTART;TZID=Europe/Amsterdam:20230902T070000
DTEND;TZID=Europe/Amsterdam:20230903T190000
DTSTAMP:20260421T141206
CREATED:20230709T181506Z
LAST-MODIFIED:20240627T061124Z
UID:10066-1693638000-1693767600@www.rfv-nordhorn.de
SUMMARY:Sommerturnier 2023
DESCRIPTION:
URL:https://www.rfv-nordhorn.de/event/sommerturnier-2023/
LOCATION:Reit- und Fahrverein Nordhorn e. V.\, Neuenhauser Str. 257\, Nordhorn\, Niedersachsen\, 48527\, Deutschland
ATTACH;FMTTYPE=image/jpeg:https://www.rfv-nordhorn.de/wp-content/uploads/2023/07/horse-jumping-ga1decd002_640.jpg
END:VEVENT
BEGIN:VEVENT
DTSTART;TZID=Europe/Amsterdam:20230901T160000
DTEND;TZID=Europe/Amsterdam:20230901T160000
DTSTAMP:20260421T141206
CREATED:20230714T172844Z
LAST-MODIFIED:20230714T172844Z
UID:10141-1693584000-1693584000@www.rfv-nordhorn.de
SUMMARY:Arbeitsdienst
DESCRIPTION:
URL:https://www.rfv-nordhorn.de/event/arbeitsdienst-10/
LOCATION:Reit- und Fahrverein Nordhorn e. V.\, Neuenhauser Str. 257\, Nordhorn\, Niedersachsen\, 48527\, Deutschland
END:VEVENT
BEGIN:VEVENT
DTSTART;TZID=Europe/Amsterdam:20230831T160000
DTEND;TZID=Europe/Amsterdam:20230831T160000
DTSTAMP:20260421T141206
CREATED:20230714T172815Z
LAST-MODIFIED:20230714T172815Z
UID:10139-1693497600-1693497600@www.rfv-nordhorn.de
SUMMARY:Arbeitsdienst
DESCRIPTION:
URL:https://www.rfv-nordhorn.de/event/arbeitsdienst-9/
LOCATION:Reit- und Fahrverein Nordhorn e. V.\, Neuenhauser Str. 257\, Nordhorn\, Niedersachsen\, 48527\, Deutschland
END:VEVENT
BEGIN:VEVENT
DTSTART;TZID=Europe/Amsterdam:20230830T160000
DTEND;TZID=Europe/Amsterdam:20230830T160000
DTSTAMP:20260421T141206
CREATED:20230714T172734Z
LAST-MODIFIED:20230714T172734Z
UID:10137-1693411200-1693411200@www.rfv-nordhorn.de
SUMMARY:Arbeitsdienst
DESCRIPTION:
URL:https://www.rfv-nordhorn.de/event/arbeitsdienst-8/
LOCATION:Reit- und Fahrverein Nordhorn e. V.\, Neuenhauser Str. 257\, Nordhorn\, Niedersachsen\, 48527\, Deutschland
END:VEVENT
BEGIN:VEVENT
DTSTART;TZID=Europe/Amsterdam:20230829T160000
DTEND;TZID=Europe/Amsterdam:20230829T160000
DTSTAMP:20260421T141206
CREATED:20230714T172644Z
LAST-MODIFIED:20230714T172644Z
UID:10135-1693324800-1693324800@www.rfv-nordhorn.de
SUMMARY:Arbeitsdienst
DESCRIPTION:
URL:https://www.rfv-nordhorn.de/event/arbeitsdienst-7/
LOCATION:Reit- und Fahrverein Nordhorn e. V.\, Neuenhauser Str. 257\, Nordhorn\, Niedersachsen\, 48527\, Deutschland
END:VEVENT
BEGIN:VEVENT
DTSTART;TZID=Europe/Amsterdam:20230828T160000
DTEND;TZID=Europe/Amsterdam:20230828T160000
DTSTAMP:20260421T141206
CREATED:20230714T172622Z
LAST-MODIFIED:20230714T172622Z
UID:10133-1693238400-1693238400@www.rfv-nordhorn.de
SUMMARY:Arbeitsdienst
DESCRIPTION:
URL:https://www.rfv-nordhorn.de/event/arbeitsdienst-6/
LOCATION:Reit- und Fahrverein Nordhorn e. V.\, Neuenhauser Str. 257\, Nordhorn\, Niedersachsen\, 48527\, Deutschland
END:VEVENT
BEGIN:VEVENT
DTSTART;TZID=Europe/Amsterdam:20230826T080000
DTEND;TZID=Europe/Amsterdam:20230826T080000
DTSTAMP:20260421T141206
CREATED:20230714T172500Z
LAST-MODIFIED:20230714T172500Z
UID:10131-1693036800-1693036800@www.rfv-nordhorn.de
SUMMARY:Arbeitsdienst
DESCRIPTION:
URL:https://www.rfv-nordhorn.de/event/arbeitsdienst-5/
LOCATION:Reit- und Fahrverein Nordhorn e. V.\, Neuenhauser Str. 257\, Nordhorn\, Niedersachsen\, 48527\, Deutschland
END:VEVENT
BEGIN:VEVENT
DTSTART;TZID=Europe/Amsterdam:20230819T080000
DTEND;TZID=Europe/Amsterdam:20230819T080000
DTSTAMP:20260421T141206
CREATED:20230714T172433Z
LAST-MODIFIED:20230714T172433Z
UID:10129-1692432000-1692432000@www.rfv-nordhorn.de
SUMMARY:Arbeitsdienst
DESCRIPTION:
URL:https://www.rfv-nordhorn.de/event/arbeitsdienst-4/
LOCATION:Reit- und Fahrverein Nordhorn e. V.\, Neuenhauser Str. 257\, Nordhorn\, Niedersachsen\, 48527\, Deutschland
END:VEVENT
BEGIN:VEVENT
DTSTART;TZID=Europe/Amsterdam:20230812T080000
DTEND;TZID=Europe/Amsterdam:20230812T080000
DTSTAMP:20260421T141206
CREATED:20230714T172409Z
LAST-MODIFIED:20230714T172409Z
UID:10127-1691827200-1691827200@www.rfv-nordhorn.de
SUMMARY:Arbeitsdienst
DESCRIPTION:
URL:https://www.rfv-nordhorn.de/event/arbeitsdienst-3/
LOCATION:Reit- und Fahrverein Nordhorn e. V.\, Neuenhauser Str. 257\, Nordhorn\, Niedersachsen\, 48527\, Deutschland
END:VEVENT
BEGIN:VEVENT
DTSTART;TZID=Europe/Amsterdam:20230805T080000
DTEND;TZID=Europe/Amsterdam:20230805T080000
DTSTAMP:20260421T141206
CREATED:20230714T172343Z
LAST-MODIFIED:20230714T172343Z
UID:10125-1691222400-1691222400@www.rfv-nordhorn.de
SUMMARY:Arbeitsdienst
DESCRIPTION:
URL:https://www.rfv-nordhorn.de/event/arbeitsdienst-2/
LOCATION:Reit- und Fahrverein Nordhorn e. V.\, Neuenhauser Str. 257\, Nordhorn\, Niedersachsen\, 48527\, Deutschland
END:VEVENT
BEGIN:VEVENT
DTSTART;TZID=Europe/Amsterdam:20230715T080000
DTEND;TZID=Europe/Amsterdam:20230715T080000
DTSTAMP:20260421T141206
CREATED:20230714T172244Z
LAST-MODIFIED:20230714T172244Z
UID:10123-1689408000-1689408000@www.rfv-nordhorn.de
SUMMARY:Arbeitsdienst
DESCRIPTION:
URL:https://www.rfv-nordhorn.de/event/arbeitsdienst/
LOCATION:Reit- und Fahrverein Nordhorn e. V.\, Neuenhauser Str. 257\, Nordhorn\, Niedersachsen\, 48527\, Deutschland
END:VEVENT
BEGIN:VEVENT
DTSTART;TZID=Europe/Amsterdam:20230629T180000
DTEND;TZID=Europe/Amsterdam:20230629T180000
DTSTAMP:20260421T141206
CREATED:20230603T104852Z
LAST-MODIFIED:20230603T105131Z
UID:10030-1688061600-1688061600@www.rfv-nordhorn.de
SUMMARY:Jahreshauptversammlung 2023
DESCRIPTION:Der Reit- und Fahrverein Nordhorn e. V. lädt hiermit alle Mitglieder zur\nJahreshauptversammlung ein. \n Termin:       Donnerstag\, 29.06.2023 um 19:00 Uhr\nOrt:             Reit- und Fahrverein Nordhorn e.V. – Vorraum neue Reithalle \nTagesordnung: \n1. Begrüßung und Beschlussfähigkeit\n2. Protokoll der JHV 2022*\n3. Jahresbericht für den Zeitraum der letzt- und diesjährigen JHV\n4. Bericht des Sportwartes\n5. Bericht aus der Jugendarbeit\n6. Kassenbericht\n7. Bericht der Kassenprüfer\n8. Entlastung des Vorstandes\n9. Wahl der Kassenprüfer\n10. Ehrungen\n11. Termine\n12. Anträge **\n13. Verschiedenes \n* Das Protokoll liegt als Anhang der E-Mail bei und wurde ebenfalls bereits am 17.12.2022\nper E-Mail verschickt. Außerdem liegt es zur Einsicht im Clubraum aus.\n** Anträge müssen schriftlich bis spätestens vier Tage vor der JHV bei der 1.Vorsitzenden\neingereicht werden. \nBrigitte Gebert\, 1.Vorsitzende
URL:https://www.rfv-nordhorn.de/event/jahreshauptversammlung-2023/
LOCATION:Reit- und Fahrverein Nordhorn e. V.\, Neuenhauser Str. 257\, Nordhorn\, Niedersachsen\, 48527\, Deutschland
END:VEVENT
BEGIN:VEVENT
DTSTART;TZID=Europe/Amsterdam:20221204T150000
DTEND;TZID=Europe/Amsterdam:20221204T180000
DTSTAMP:20260421T141206
CREATED:20221115T175343Z
LAST-MODIFIED:20221115T175833Z
UID:9993-1670166000-1670176800@www.rfv-nordhorn.de
SUMMARY:Weihnachtsreiten 2022
DESCRIPTION:Wir freuen uns auf einen tollen Nachmittag mit weihnachtlichem Feeling\, tollen Besuchern und einem buntem Programm. \nHierbei werden natürlich Glühwein\, Punsch\, Kaffee und Leckereien wie frische Waffeln und Kuchen nicht fehlen.  \nWir freuen uns auf euch! 
URL:https://www.rfv-nordhorn.de/event/weihnachtsreiten-4/
LOCATION:Reit- und Fahrverein Nordhorn e. V.\, Neuenhauser Str. 257\, Nordhorn\, Niedersachsen\, 48527\, Deutschland
ATTACH;FMTTYPE=image/jpeg:https://www.rfv-nordhorn.de/wp-content/uploads/2022/11/2022-11-14-Plakat-Weihnachtsreiten-2022-scaled.jpeg
END:VEVENT
BEGIN:VEVENT
DTSTART;VALUE=DATE:20220901
DTEND;VALUE=DATE:20220905
DTSTAMP:20260421T141206
CREATED:20220626T135211Z
LAST-MODIFIED:20220626T135546Z
UID:9632-1662073200-1662332399@www.rfv-nordhorn.de
SUMMARY:Sommerturnier 02.09.-04.09.2022
DESCRIPTION:
URL:https://www.rfv-nordhorn.de/event/sommerturnier-02-09-04-09-2022/
LOCATION:Reit- und Fahrverein Nordhorn e. V.\, Neuenhauser Str. 257\, Nordhorn\, Niedersachsen\, 48527\, Deutschland
END:VEVENT
BEGIN:VEVENT
DTSTART;VALUE=DATE:20191217
DTEND;VALUE=DATE:20191219
DTSTAMP:20260421T141206
CREATED:20190530T102907Z
LAST-MODIFIED:20190530T102907Z
UID:6839-1576623600-1576709999@www.rfv-nordhorn.de
SUMMARY:Glühweinabend
DESCRIPTION:
URL:https://www.rfv-nordhorn.de/event/gluehweinabend-3/
LOCATION:Niedersachsen
END:VEVENT
END:VCALENDAR